BEGIN:VCALENDAR
VERSION:2.0
PRODID:-//Holiday Trails Resorts - ECPv6.15.20//NONSGML v1.0//EN
CALSCALE:GREGORIAN
METHOD:PUBLISH
X-WR-CALNAME:Holiday Trails Resorts
X-ORIGINAL-URL:https://holidaytrailsresorts.com
X-WR-CALDESC:Events for Holiday Trails Resorts
REFRESH-INTERVAL;VALUE=DURATION:PT1H
X-Robots-Tag:noindex
X-PUBLISHED-TTL:PT1H
BEGIN:VTIMEZONE
TZID:America/Vancouver
BEGIN:DAYLIGHT
TZOFFSETFROM:-0800
TZOFFSETTO:-0700
TZNAME:PDT
DTSTART:20210314T100000
END:DAYLIGHT
BEGIN:STANDARD
TZOFFSETFROM:-0700
TZOFFSETTO:-0800
TZNAME:PST
DTSTART:20211107T090000
END:STANDARD
BEGIN:DAYLIGHT
TZOFFSETFROM:-0800
TZOFFSETTO:-0700
TZNAME:PDT
DTSTART:20220313T100000
END:DAYLIGHT
BEGIN:STANDARD
TZOFFSETFROM:-0700
TZOFFSETTO:-0800
TZNAME:PST
DTSTART:20221106T090000
END:STANDARD
BEGIN:DAYLIGHT
TZOFFSETFROM:-0800
TZOFFSETTO:-0700
TZNAME:PDT
DTSTART:20230312T100000
END:DAYLIGHT
BEGIN:STANDARD
TZOFFSETFROM:-0700
TZOFFSETTO:-0800
TZNAME:PST
DTSTART:20231105T090000
END:STANDARD
END:VTIMEZONE
BEGIN:VEVENT
DTSTART;TZID=America/Vancouver:20220820T090000
DTEND;TZID=America/Vancouver:20220820T120000
DTSTAMP:20260420T022858
CREATED:20210710T164020Z
LAST-MODIFIED:20220714T183810Z
UID:10001869-1660986000-1660996800@holidaytrailsresorts.com
SUMMARY:Craft Fair!
DESCRIPTION:Come set up a table and put your crafting items out for sale!
URL:https://holidaytrailsresorts.com/event/craft-fair/2022-08-20/
LOCATION:Bridal Falls Camperland RV Resort\, 53730 Bridal Falls Rd\, Rosedale\, British Columbia\, V0X 1X1\, Canada
CATEGORIES:Bridal Falls Camperland RV Resort
GEO:49.187381;-121.7416594
X-APPLE-STRUCTURED-LOCATION;VALUE=URI;X-ADDRESS=Bridal Falls Camperland RV Resort 53730 Bridal Falls Rd Rosedale British Columbia V0X 1X1 Canada;X-APPLE-RADIUS=500;X-TITLE=53730 Bridal Falls Rd:geo:-121.7416594,49.187381
END:VEVENT
BEGIN:VEVENT
DTSTART;TZID=America/Vancouver:20220813T190000
DTEND;TZID=America/Vancouver:20220813T210000
DTSTAMP:20260420T022858
CREATED:20190517T225846Z
LAST-MODIFIED:20220714T183247Z
UID:10001724-1660417200-1660424400@holidaytrailsresorts.com
SUMMARY:Twoonie Bingo!
DESCRIPTION:Bingo in the clubhouse for $2/per card.
URL:https://holidaytrailsresorts.com/event/twoonie-bingo-2/2022-08-13/
LOCATION:Bridal Falls Camperland RV Resort\, 53730 Bridal Falls Rd\, Rosedale\, British Columbia\, V0X 1X1\, Canada
CATEGORIES:Bridal Falls Camperland RV Resort
ATTACH;FMTTYPE=image/jpeg:https://holidaytrailsresorts.com/wp-content/uploads/2019/05/bingo.jpg
GEO:49.187381;-121.7416594
X-APPLE-STRUCTURED-LOCATION;VALUE=URI;X-ADDRESS=Bridal Falls Camperland RV Resort 53730 Bridal Falls Rd Rosedale British Columbia V0X 1X1 Canada;X-APPLE-RADIUS=500;X-TITLE=53730 Bridal Falls Rd:geo:-121.7416594,49.187381
END:VEVENT
BEGIN:VEVENT
DTSTART;TZID=America/Vancouver:20220813T110000
DTEND;TZID=America/Vancouver:20220813T110000
DTSTAMP:20260420T022858
CREATED:20210710T164410Z
LAST-MODIFIED:20220714T183625Z
UID:10001852-1660388400-1660388400@holidaytrailsresorts.com
SUMMARY:Kids Draw!
DESCRIPTION:Enter to win kids prizes every Saturday. Entry forms are located in the store\, and must be present at 11am at the clubhouse to win! Ages 2-14 welcome!
URL:https://holidaytrailsresorts.com/event/kids-draw-4/2022-08-13/
LOCATION:Bridal Falls Camperland RV Resort\, 53730 Bridal Falls Rd\, Rosedale\, British Columbia\, V0X 1X1\, Canada
CATEGORIES:Bridal Falls Camperland RV Resort
ATTACH;FMTTYPE=image/jpeg:https://holidaytrailsresorts.com/wp-content/uploads/2021/07/Kids-Draw.jpg
GEO:49.187381;-121.7416594
X-APPLE-STRUCTURED-LOCATION;VALUE=URI;X-ADDRESS=Bridal Falls Camperland RV Resort 53730 Bridal Falls Rd Rosedale British Columbia V0X 1X1 Canada;X-APPLE-RADIUS=500;X-TITLE=53730 Bridal Falls Rd:geo:-121.7416594,49.187381
END:VEVENT
BEGIN:VEVENT
DTSTART;TZID=America/Vancouver:20220813T090000
DTEND;TZID=America/Vancouver:20220813T120000
DTSTAMP:20260420T022858
CREATED:20210710T164020Z
LAST-MODIFIED:20220714T183810Z
UID:10001868-1660381200-1660392000@holidaytrailsresorts.com
SUMMARY:Craft Fair!
DESCRIPTION:Come set up a table and put your crafting items out for sale!
URL:https://holidaytrailsresorts.com/event/craft-fair/2022-08-13/
LOCATION:Bridal Falls Camperland RV Resort\, 53730 Bridal Falls Rd\, Rosedale\, British Columbia\, V0X 1X1\, Canada
CATEGORIES:Bridal Falls Camperland RV Resort
GEO:49.187381;-121.7416594
X-APPLE-STRUCTURED-LOCATION;VALUE=URI;X-ADDRESS=Bridal Falls Camperland RV Resort 53730 Bridal Falls Rd Rosedale British Columbia V0X 1X1 Canada;X-APPLE-RADIUS=500;X-TITLE=53730 Bridal Falls Rd:geo:-121.7416594,49.187381
END:VEVENT
BEGIN:VEVENT
DTSTART;TZID=America/Vancouver:20220806T190000
DTEND;TZID=America/Vancouver:20220806T210000
DTSTAMP:20260420T022858
CREATED:20190517T225846Z
LAST-MODIFIED:20220714T183247Z
UID:10001723-1659812400-1659819600@holidaytrailsresorts.com
SUMMARY:Twoonie Bingo!
DESCRIPTION:Bingo in the clubhouse for $2/per card.
URL:https://holidaytrailsresorts.com/event/twoonie-bingo-2/2022-08-06/
LOCATION:Bridal Falls Camperland RV Resort\, 53730 Bridal Falls Rd\, Rosedale\, British Columbia\, V0X 1X1\, Canada
CATEGORIES:Bridal Falls Camperland RV Resort
ATTACH;FMTTYPE=image/jpeg:https://holidaytrailsresorts.com/wp-content/uploads/2019/05/bingo.jpg
GEO:49.187381;-121.7416594
X-APPLE-STRUCTURED-LOCATION;VALUE=URI;X-ADDRESS=Bridal Falls Camperland RV Resort 53730 Bridal Falls Rd Rosedale British Columbia V0X 1X1 Canada;X-APPLE-RADIUS=500;X-TITLE=53730 Bridal Falls Rd:geo:-121.7416594,49.187381
END:VEVENT
BEGIN:VEVENT
DTSTART;TZID=America/Vancouver:20220806T110000
DTEND;TZID=America/Vancouver:20220806T110000
DTSTAMP:20260420T022858
CREATED:20210710T164410Z
LAST-MODIFIED:20220714T183625Z
UID:10001851-1659783600-1659783600@holidaytrailsresorts.com
SUMMARY:Kids Draw!
DESCRIPTION:Enter to win kids prizes every Saturday. Entry forms are located in the store\, and must be present at 11am at the clubhouse to win! Ages 2-14 welcome!
URL:https://holidaytrailsresorts.com/event/kids-draw-4/2022-08-06/
LOCATION:Bridal Falls Camperland RV Resort\, 53730 Bridal Falls Rd\, Rosedale\, British Columbia\, V0X 1X1\, Canada
CATEGORIES:Bridal Falls Camperland RV Resort
ATTACH;FMTTYPE=image/jpeg:https://holidaytrailsresorts.com/wp-content/uploads/2021/07/Kids-Draw.jpg
GEO:49.187381;-121.7416594
X-APPLE-STRUCTURED-LOCATION;VALUE=URI;X-ADDRESS=Bridal Falls Camperland RV Resort 53730 Bridal Falls Rd Rosedale British Columbia V0X 1X1 Canada;X-APPLE-RADIUS=500;X-TITLE=53730 Bridal Falls Rd:geo:-121.7416594,49.187381
END:VEVENT
BEGIN:VEVENT
DTSTART;TZID=America/Vancouver:20220806T090000
DTEND;TZID=America/Vancouver:20220806T120000
DTSTAMP:20260420T022858
CREATED:20210710T164020Z
LAST-MODIFIED:20220714T183810Z
UID:10001867-1659776400-1659787200@holidaytrailsresorts.com
SUMMARY:Craft Fair!
DESCRIPTION:Come set up a table and put your crafting items out for sale!
URL:https://holidaytrailsresorts.com/event/craft-fair/2022-08-06/
LOCATION:Bridal Falls Camperland RV Resort\, 53730 Bridal Falls Rd\, Rosedale\, British Columbia\, V0X 1X1\, Canada
CATEGORIES:Bridal Falls Camperland RV Resort
GEO:49.187381;-121.7416594
X-APPLE-STRUCTURED-LOCATION;VALUE=URI;X-ADDRESS=Bridal Falls Camperland RV Resort 53730 Bridal Falls Rd Rosedale British Columbia V0X 1X1 Canada;X-APPLE-RADIUS=500;X-TITLE=53730 Bridal Falls Rd:geo:-121.7416594,49.187381
END:VEVENT
BEGIN:VEVENT
DTSTART;TZID=America/Vancouver:20220730T190000
DTEND;TZID=America/Vancouver:20220730T210000
DTSTAMP:20260420T022858
CREATED:20190517T225846Z
LAST-MODIFIED:20220714T183247Z
UID:10001722-1659207600-1659214800@holidaytrailsresorts.com
SUMMARY:Twoonie Bingo!
DESCRIPTION:Bingo in the clubhouse for $2/per card.
URL:https://holidaytrailsresorts.com/event/twoonie-bingo-2/2022-07-30/
LOCATION:Bridal Falls Camperland RV Resort\, 53730 Bridal Falls Rd\, Rosedale\, British Columbia\, V0X 1X1\, Canada
CATEGORIES:Bridal Falls Camperland RV Resort
ATTACH;FMTTYPE=image/jpeg:https://holidaytrailsresorts.com/wp-content/uploads/2019/05/bingo.jpg
GEO:49.187381;-121.7416594
X-APPLE-STRUCTURED-LOCATION;VALUE=URI;X-ADDRESS=Bridal Falls Camperland RV Resort 53730 Bridal Falls Rd Rosedale British Columbia V0X 1X1 Canada;X-APPLE-RADIUS=500;X-TITLE=53730 Bridal Falls Rd:geo:-121.7416594,49.187381
END:VEVENT
BEGIN:VEVENT
DTSTART;TZID=America/Vancouver:20220730T110000
DTEND;TZID=America/Vancouver:20220730T110000
DTSTAMP:20260420T022858
CREATED:20210710T164410Z
LAST-MODIFIED:20220714T183625Z
UID:10001850-1659178800-1659178800@holidaytrailsresorts.com
SUMMARY:Kids Draw!
DESCRIPTION:Enter to win kids prizes every Saturday. Entry forms are located in the store\, and must be present at 11am at the clubhouse to win! Ages 2-14 welcome!
URL:https://holidaytrailsresorts.com/event/kids-draw-4/2022-07-30/
LOCATION:Bridal Falls Camperland RV Resort\, 53730 Bridal Falls Rd\, Rosedale\, British Columbia\, V0X 1X1\, Canada
CATEGORIES:Bridal Falls Camperland RV Resort
ATTACH;FMTTYPE=image/jpeg:https://holidaytrailsresorts.com/wp-content/uploads/2021/07/Kids-Draw.jpg
GEO:49.187381;-121.7416594
X-APPLE-STRUCTURED-LOCATION;VALUE=URI;X-ADDRESS=Bridal Falls Camperland RV Resort 53730 Bridal Falls Rd Rosedale British Columbia V0X 1X1 Canada;X-APPLE-RADIUS=500;X-TITLE=53730 Bridal Falls Rd:geo:-121.7416594,49.187381
END:VEVENT
BEGIN:VEVENT
DTSTART;TZID=America/Vancouver:20220730T090000
DTEND;TZID=America/Vancouver:20220730T120000
DTSTAMP:20260420T022858
CREATED:20210710T164020Z
LAST-MODIFIED:20220714T183810Z
UID:10001866-1659171600-1659182400@holidaytrailsresorts.com
SUMMARY:Craft Fair!
DESCRIPTION:Come set up a table and put your crafting items out for sale!
URL:https://holidaytrailsresorts.com/event/craft-fair/2022-07-30/
LOCATION:Bridal Falls Camperland RV Resort\, 53730 Bridal Falls Rd\, Rosedale\, British Columbia\, V0X 1X1\, Canada
CATEGORIES:Bridal Falls Camperland RV Resort
GEO:49.187381;-121.7416594
X-APPLE-STRUCTURED-LOCATION;VALUE=URI;X-ADDRESS=Bridal Falls Camperland RV Resort 53730 Bridal Falls Rd Rosedale British Columbia V0X 1X1 Canada;X-APPLE-RADIUS=500;X-TITLE=53730 Bridal Falls Rd:geo:-121.7416594,49.187381
END:VEVENT
BEGIN:VEVENT
DTSTART;TZID=America/Vancouver:20220723T190000
DTEND;TZID=America/Vancouver:20220723T210000
DTSTAMP:20260420T022858
CREATED:20190517T225846Z
LAST-MODIFIED:20220714T183247Z
UID:10001721-1658602800-1658610000@holidaytrailsresorts.com
SUMMARY:Twoonie Bingo!
DESCRIPTION:Bingo in the clubhouse for $2/per card.
URL:https://holidaytrailsresorts.com/event/twoonie-bingo-2/2022-07-23/
LOCATION:Bridal Falls Camperland RV Resort\, 53730 Bridal Falls Rd\, Rosedale\, British Columbia\, V0X 1X1\, Canada
CATEGORIES:Bridal Falls Camperland RV Resort
ATTACH;FMTTYPE=image/jpeg:https://holidaytrailsresorts.com/wp-content/uploads/2019/05/bingo.jpg
GEO:49.187381;-121.7416594
X-APPLE-STRUCTURED-LOCATION;VALUE=URI;X-ADDRESS=Bridal Falls Camperland RV Resort 53730 Bridal Falls Rd Rosedale British Columbia V0X 1X1 Canada;X-APPLE-RADIUS=500;X-TITLE=53730 Bridal Falls Rd:geo:-121.7416594,49.187381
END:VEVENT
BEGIN:VEVENT
DTSTART;TZID=America/Vancouver:20220723T110000
DTEND;TZID=America/Vancouver:20220723T110000
DTSTAMP:20260420T022858
CREATED:20210710T164410Z
LAST-MODIFIED:20220714T183625Z
UID:10001849-1658574000-1658574000@holidaytrailsresorts.com
SUMMARY:Kids Draw!
DESCRIPTION:Enter to win kids prizes every Saturday. Entry forms are located in the store\, and must be present at 11am at the clubhouse to win! Ages 2-14 welcome!
URL:https://holidaytrailsresorts.com/event/kids-draw-4/2022-07-23/
LOCATION:Bridal Falls Camperland RV Resort\, 53730 Bridal Falls Rd\, Rosedale\, British Columbia\, V0X 1X1\, Canada
CATEGORIES:Bridal Falls Camperland RV Resort
ATTACH;FMTTYPE=image/jpeg:https://holidaytrailsresorts.com/wp-content/uploads/2021/07/Kids-Draw.jpg
GEO:49.187381;-121.7416594
X-APPLE-STRUCTURED-LOCATION;VALUE=URI;X-ADDRESS=Bridal Falls Camperland RV Resort 53730 Bridal Falls Rd Rosedale British Columbia V0X 1X1 Canada;X-APPLE-RADIUS=500;X-TITLE=53730 Bridal Falls Rd:geo:-121.7416594,49.187381
END:VEVENT
BEGIN:VEVENT
DTSTART;TZID=America/Vancouver:20220723T090000
DTEND;TZID=America/Vancouver:20220723T120000
DTSTAMP:20260420T022858
CREATED:20210710T164020Z
LAST-MODIFIED:20220714T183810Z
UID:10001865-1658566800-1658577600@holidaytrailsresorts.com
SUMMARY:Craft Fair!
DESCRIPTION:Come set up a table and put your crafting items out for sale!
URL:https://holidaytrailsresorts.com/event/craft-fair/2022-07-23/
LOCATION:Bridal Falls Camperland RV Resort\, 53730 Bridal Falls Rd\, Rosedale\, British Columbia\, V0X 1X1\, Canada
CATEGORIES:Bridal Falls Camperland RV Resort
GEO:49.187381;-121.7416594
X-APPLE-STRUCTURED-LOCATION;VALUE=URI;X-ADDRESS=Bridal Falls Camperland RV Resort 53730 Bridal Falls Rd Rosedale British Columbia V0X 1X1 Canada;X-APPLE-RADIUS=500;X-TITLE=53730 Bridal Falls Rd:geo:-121.7416594,49.187381
END:VEVENT
BEGIN:VEVENT
DTSTART;TZID=America/Vancouver:20220716T190000
DTEND;TZID=America/Vancouver:20220716T210000
DTSTAMP:20260420T022858
CREATED:20190517T225846Z
LAST-MODIFIED:20220714T183247Z
UID:10001720-1657998000-1658005200@holidaytrailsresorts.com
SUMMARY:Twoonie Bingo!
DESCRIPTION:Bingo in the clubhouse for $2/per card.
URL:https://holidaytrailsresorts.com/event/twoonie-bingo-2/2022-07-16/
LOCATION:Bridal Falls Camperland RV Resort\, 53730 Bridal Falls Rd\, Rosedale\, British Columbia\, V0X 1X1\, Canada
CATEGORIES:Bridal Falls Camperland RV Resort
ATTACH;FMTTYPE=image/jpeg:https://holidaytrailsresorts.com/wp-content/uploads/2019/05/bingo.jpg
GEO:49.187381;-121.7416594
X-APPLE-STRUCTURED-LOCATION;VALUE=URI;X-ADDRESS=Bridal Falls Camperland RV Resort 53730 Bridal Falls Rd Rosedale British Columbia V0X 1X1 Canada;X-APPLE-RADIUS=500;X-TITLE=53730 Bridal Falls Rd:geo:-121.7416594,49.187381
END:VEVENT
BEGIN:VEVENT
DTSTART;TZID=America/Vancouver:20220716T110000
DTEND;TZID=America/Vancouver:20220716T110000
DTSTAMP:20260420T022858
CREATED:20210710T164410Z
LAST-MODIFIED:20220714T183625Z
UID:10001848-1657969200-1657969200@holidaytrailsresorts.com
SUMMARY:Kids Draw!
DESCRIPTION:Enter to win kids prizes every Saturday. Entry forms are located in the store\, and must be present at 11am at the clubhouse to win! Ages 2-14 welcome!
URL:https://holidaytrailsresorts.com/event/kids-draw-4/2022-07-16/
LOCATION:Bridal Falls Camperland RV Resort\, 53730 Bridal Falls Rd\, Rosedale\, British Columbia\, V0X 1X1\, Canada
CATEGORIES:Bridal Falls Camperland RV Resort
ATTACH;FMTTYPE=image/jpeg:https://holidaytrailsresorts.com/wp-content/uploads/2021/07/Kids-Draw.jpg
GEO:49.187381;-121.7416594
X-APPLE-STRUCTURED-LOCATION;VALUE=URI;X-ADDRESS=Bridal Falls Camperland RV Resort 53730 Bridal Falls Rd Rosedale British Columbia V0X 1X1 Canada;X-APPLE-RADIUS=500;X-TITLE=53730 Bridal Falls Rd:geo:-121.7416594,49.187381
END:VEVENT
BEGIN:VEVENT
DTSTART;TZID=America/Vancouver:20220716T090000
DTEND;TZID=America/Vancouver:20220716T120000
DTSTAMP:20260420T022858
CREATED:20210710T164020Z
LAST-MODIFIED:20220714T183810Z
UID:10001864-1657962000-1657972800@holidaytrailsresorts.com
SUMMARY:Craft Fair!
DESCRIPTION:Come set up a table and put your crafting items out for sale!
URL:https://holidaytrailsresorts.com/event/craft-fair/2022-07-16/
LOCATION:Bridal Falls Camperland RV Resort\, 53730 Bridal Falls Rd\, Rosedale\, British Columbia\, V0X 1X1\, Canada
CATEGORIES:Bridal Falls Camperland RV Resort
GEO:49.187381;-121.7416594
X-APPLE-STRUCTURED-LOCATION;VALUE=URI;X-ADDRESS=Bridal Falls Camperland RV Resort 53730 Bridal Falls Rd Rosedale British Columbia V0X 1X1 Canada;X-APPLE-RADIUS=500;X-TITLE=53730 Bridal Falls Rd:geo:-121.7416594,49.187381
END:VEVENT
BEGIN:VEVENT
DTSTART;TZID=America/Vancouver:20220709T110000
DTEND;TZID=America/Vancouver:20220709T110000
DTSTAMP:20260420T022858
CREATED:20210710T164410Z
LAST-MODIFIED:20220714T183625Z
UID:10001847-1657364400-1657364400@holidaytrailsresorts.com
SUMMARY:Kids Draw!
DESCRIPTION:Enter to win kids prizes every Saturday. Entry forms are located in the store\, and must be present at 11am at the clubhouse to win! Ages 2-14 welcome!
URL:https://holidaytrailsresorts.com/event/kids-draw-4/2022-07-09/
LOCATION:Bridal Falls Camperland RV Resort\, 53730 Bridal Falls Rd\, Rosedale\, British Columbia\, V0X 1X1\, Canada
CATEGORIES:Bridal Falls Camperland RV Resort
ATTACH;FMTTYPE=image/jpeg:https://holidaytrailsresorts.com/wp-content/uploads/2021/07/Kids-Draw.jpg
GEO:49.187381;-121.7416594
X-APPLE-STRUCTURED-LOCATION;VALUE=URI;X-ADDRESS=Bridal Falls Camperland RV Resort 53730 Bridal Falls Rd Rosedale British Columbia V0X 1X1 Canada;X-APPLE-RADIUS=500;X-TITLE=53730 Bridal Falls Rd:geo:-121.7416594,49.187381
END:VEVENT
BEGIN:VEVENT
DTSTART;TZID=America/Vancouver:20220709T090000
DTEND;TZID=America/Vancouver:20220709T120000
DTSTAMP:20260420T022858
CREATED:20210710T164020Z
LAST-MODIFIED:20220714T183810Z
UID:10001863-1657357200-1657368000@holidaytrailsresorts.com
SUMMARY:Craft Fair!
DESCRIPTION:Come set up a table and put your crafting items out for sale!
URL:https://holidaytrailsresorts.com/event/craft-fair/2022-07-09/
LOCATION:Bridal Falls Camperland RV Resort\, 53730 Bridal Falls Rd\, Rosedale\, British Columbia\, V0X 1X1\, Canada
CATEGORIES:Bridal Falls Camperland RV Resort
GEO:49.187381;-121.7416594
X-APPLE-STRUCTURED-LOCATION;VALUE=URI;X-ADDRESS=Bridal Falls Camperland RV Resort 53730 Bridal Falls Rd Rosedale British Columbia V0X 1X1 Canada;X-APPLE-RADIUS=500;X-TITLE=53730 Bridal Falls Rd:geo:-121.7416594,49.187381
END:VEVENT
BEGIN:VEVENT
DTSTART;TZID=America/Vancouver:20220702T110000
DTEND;TZID=America/Vancouver:20220702T110000
DTSTAMP:20260420T022858
CREATED:20210710T164410Z
LAST-MODIFIED:20220714T183625Z
UID:10001846-1656759600-1656759600@holidaytrailsresorts.com
SUMMARY:Kids Draw!
DESCRIPTION:Enter to win kids prizes every Saturday. Entry forms are located in the store\, and must be present at 11am at the clubhouse to win! Ages 2-14 welcome!
URL:https://holidaytrailsresorts.com/event/kids-draw-4/2022-07-02/
LOCATION:Bridal Falls Camperland RV Resort\, 53730 Bridal Falls Rd\, Rosedale\, British Columbia\, V0X 1X1\, Canada
CATEGORIES:Bridal Falls Camperland RV Resort
ATTACH;FMTTYPE=image/jpeg:https://holidaytrailsresorts.com/wp-content/uploads/2021/07/Kids-Draw.jpg
GEO:49.187381;-121.7416594
X-APPLE-STRUCTURED-LOCATION;VALUE=URI;X-ADDRESS=Bridal Falls Camperland RV Resort 53730 Bridal Falls Rd Rosedale British Columbia V0X 1X1 Canada;X-APPLE-RADIUS=500;X-TITLE=53730 Bridal Falls Rd:geo:-121.7416594,49.187381
END:VEVENT
BEGIN:VEVENT
DTSTART;TZID=America/Vancouver:20220702T090000
DTEND;TZID=America/Vancouver:20220702T120000
DTSTAMP:20260420T022858
CREATED:20210710T164020Z
LAST-MODIFIED:20220714T183810Z
UID:10001862-1656752400-1656763200@holidaytrailsresorts.com
SUMMARY:Craft Fair!
DESCRIPTION:Come set up a table and put your crafting items out for sale!
URL:https://holidaytrailsresorts.com/event/craft-fair/2022-07-02/
LOCATION:Bridal Falls Camperland RV Resort\, 53730 Bridal Falls Rd\, Rosedale\, British Columbia\, V0X 1X1\, Canada
CATEGORIES:Bridal Falls Camperland RV Resort
GEO:49.187381;-121.7416594
X-APPLE-STRUCTURED-LOCATION;VALUE=URI;X-ADDRESS=Bridal Falls Camperland RV Resort 53730 Bridal Falls Rd Rosedale British Columbia V0X 1X1 Canada;X-APPLE-RADIUS=500;X-TITLE=53730 Bridal Falls Rd:geo:-121.7416594,49.187381
END:VEVENT
BEGIN:VEVENT
DTSTART;TZID=America/Vancouver:20220625T110000
DTEND;TZID=America/Vancouver:20220625T110000
DTSTAMP:20260420T022858
CREATED:20210710T164410Z
LAST-MODIFIED:20220714T183625Z
UID:10001845-1656154800-1656154800@holidaytrailsresorts.com
SUMMARY:Kids Draw!
DESCRIPTION:Enter to win kids prizes every Saturday. Entry forms are located in the store\, and must be present at 11am at the clubhouse to win! Ages 2-14 welcome!
URL:https://holidaytrailsresorts.com/event/kids-draw-4/2022-06-25/
LOCATION:Bridal Falls Camperland RV Resort\, 53730 Bridal Falls Rd\, Rosedale\, British Columbia\, V0X 1X1\, Canada
CATEGORIES:Bridal Falls Camperland RV Resort
ATTACH;FMTTYPE=image/jpeg:https://holidaytrailsresorts.com/wp-content/uploads/2021/07/Kids-Draw.jpg
GEO:49.187381;-121.7416594
X-APPLE-STRUCTURED-LOCATION;VALUE=URI;X-ADDRESS=Bridal Falls Camperland RV Resort 53730 Bridal Falls Rd Rosedale British Columbia V0X 1X1 Canada;X-APPLE-RADIUS=500;X-TITLE=53730 Bridal Falls Rd:geo:-121.7416594,49.187381
END:VEVENT
BEGIN:VEVENT
DTSTART;TZID=America/Vancouver:20220625T090000
DTEND;TZID=America/Vancouver:20220625T120000
DTSTAMP:20260420T022858
CREATED:20210710T164020Z
LAST-MODIFIED:20220714T183810Z
UID:10001861-1656147600-1656158400@holidaytrailsresorts.com
SUMMARY:Craft Fair!
DESCRIPTION:Come set up a table and put your crafting items out for sale!
URL:https://holidaytrailsresorts.com/event/craft-fair/2022-06-25/
LOCATION:Bridal Falls Camperland RV Resort\, 53730 Bridal Falls Rd\, Rosedale\, British Columbia\, V0X 1X1\, Canada
CATEGORIES:Bridal Falls Camperland RV Resort
GEO:49.187381;-121.7416594
X-APPLE-STRUCTURED-LOCATION;VALUE=URI;X-ADDRESS=Bridal Falls Camperland RV Resort 53730 Bridal Falls Rd Rosedale British Columbia V0X 1X1 Canada;X-APPLE-RADIUS=500;X-TITLE=53730 Bridal Falls Rd:geo:-121.7416594,49.187381
END:VEVENT
BEGIN:VEVENT
DTSTART;TZID=America/Vancouver:20220618T110000
DTEND;TZID=America/Vancouver:20220618T110000
DTSTAMP:20260420T022858
CREATED:20210710T164410Z
LAST-MODIFIED:20220714T183625Z
UID:10001844-1655550000-1655550000@holidaytrailsresorts.com
SUMMARY:Kids Draw!
DESCRIPTION:Enter to win kids prizes every Saturday. Entry forms are located in the store\, and must be present at 11am at the clubhouse to win! Ages 2-14 welcome!
URL:https://holidaytrailsresorts.com/event/kids-draw-4/2022-06-18/
LOCATION:Bridal Falls Camperland RV Resort\, 53730 Bridal Falls Rd\, Rosedale\, British Columbia\, V0X 1X1\, Canada
CATEGORIES:Bridal Falls Camperland RV Resort
ATTACH;FMTTYPE=image/jpeg:https://holidaytrailsresorts.com/wp-content/uploads/2021/07/Kids-Draw.jpg
GEO:49.187381;-121.7416594
X-APPLE-STRUCTURED-LOCATION;VALUE=URI;X-ADDRESS=Bridal Falls Camperland RV Resort 53730 Bridal Falls Rd Rosedale British Columbia V0X 1X1 Canada;X-APPLE-RADIUS=500;X-TITLE=53730 Bridal Falls Rd:geo:-121.7416594,49.187381
END:VEVENT
BEGIN:VEVENT
DTSTART;TZID=America/Vancouver:20220618T090000
DTEND;TZID=America/Vancouver:20220618T120000
DTSTAMP:20260420T022858
CREATED:20210710T164020Z
LAST-MODIFIED:20220714T183810Z
UID:10001860-1655542800-1655553600@holidaytrailsresorts.com
SUMMARY:Craft Fair!
DESCRIPTION:Come set up a table and put your crafting items out for sale!
URL:https://holidaytrailsresorts.com/event/craft-fair/2022-06-18/
LOCATION:Bridal Falls Camperland RV Resort\, 53730 Bridal Falls Rd\, Rosedale\, British Columbia\, V0X 1X1\, Canada
CATEGORIES:Bridal Falls Camperland RV Resort
GEO:49.187381;-121.7416594
X-APPLE-STRUCTURED-LOCATION;VALUE=URI;X-ADDRESS=Bridal Falls Camperland RV Resort 53730 Bridal Falls Rd Rosedale British Columbia V0X 1X1 Canada;X-APPLE-RADIUS=500;X-TITLE=53730 Bridal Falls Rd:geo:-121.7416594,49.187381
END:VEVENT
BEGIN:VEVENT
DTSTART;TZID=America/Vancouver:20220611T110000
DTEND;TZID=America/Vancouver:20220611T110000
DTSTAMP:20260420T022858
CREATED:20210710T164410Z
LAST-MODIFIED:20220714T183625Z
UID:10001843-1654945200-1654945200@holidaytrailsresorts.com
SUMMARY:Kids Draw!
DESCRIPTION:Enter to win kids prizes every Saturday. Entry forms are located in the store\, and must be present at 11am at the clubhouse to win! Ages 2-14 welcome!
URL:https://holidaytrailsresorts.com/event/kids-draw-4/2022-06-11/
LOCATION:Bridal Falls Camperland RV Resort\, 53730 Bridal Falls Rd\, Rosedale\, British Columbia\, V0X 1X1\, Canada
CATEGORIES:Bridal Falls Camperland RV Resort
ATTACH;FMTTYPE=image/jpeg:https://holidaytrailsresorts.com/wp-content/uploads/2021/07/Kids-Draw.jpg
GEO:49.187381;-121.7416594
X-APPLE-STRUCTURED-LOCATION;VALUE=URI;X-ADDRESS=Bridal Falls Camperland RV Resort 53730 Bridal Falls Rd Rosedale British Columbia V0X 1X1 Canada;X-APPLE-RADIUS=500;X-TITLE=53730 Bridal Falls Rd:geo:-121.7416594,49.187381
END:VEVENT
BEGIN:VEVENT
DTSTART;TZID=America/Vancouver:20220611T090000
DTEND;TZID=America/Vancouver:20220611T120000
DTSTAMP:20260420T022858
CREATED:20210710T164020Z
LAST-MODIFIED:20220714T183810Z
UID:10001859-1654938000-1654948800@holidaytrailsresorts.com
SUMMARY:Craft Fair!
DESCRIPTION:Come set up a table and put your crafting items out for sale!
URL:https://holidaytrailsresorts.com/event/craft-fair/2022-06-11/
LOCATION:Bridal Falls Camperland RV Resort\, 53730 Bridal Falls Rd\, Rosedale\, British Columbia\, V0X 1X1\, Canada
CATEGORIES:Bridal Falls Camperland RV Resort
GEO:49.187381;-121.7416594
X-APPLE-STRUCTURED-LOCATION;VALUE=URI;X-ADDRESS=Bridal Falls Camperland RV Resort 53730 Bridal Falls Rd Rosedale British Columbia V0X 1X1 Canada;X-APPLE-RADIUS=500;X-TITLE=53730 Bridal Falls Rd:geo:-121.7416594,49.187381
END:VEVENT
BEGIN:VEVENT
DTSTART;TZID=America/Vancouver:20220604T110000
DTEND;TZID=America/Vancouver:20220604T110000
DTSTAMP:20260420T022858
CREATED:20210710T164410Z
LAST-MODIFIED:20220714T183625Z
UID:10001842-1654340400-1654340400@holidaytrailsresorts.com
SUMMARY:Kids Draw!
DESCRIPTION:Enter to win kids prizes every Saturday. Entry forms are located in the store\, and must be present at 11am at the clubhouse to win! Ages 2-14 welcome!
URL:https://holidaytrailsresorts.com/event/kids-draw-4/2022-06-04/
LOCATION:Bridal Falls Camperland RV Resort\, 53730 Bridal Falls Rd\, Rosedale\, British Columbia\, V0X 1X1\, Canada
CATEGORIES:Bridal Falls Camperland RV Resort
ATTACH;FMTTYPE=image/jpeg:https://holidaytrailsresorts.com/wp-content/uploads/2021/07/Kids-Draw.jpg
GEO:49.187381;-121.7416594
X-APPLE-STRUCTURED-LOCATION;VALUE=URI;X-ADDRESS=Bridal Falls Camperland RV Resort 53730 Bridal Falls Rd Rosedale British Columbia V0X 1X1 Canada;X-APPLE-RADIUS=500;X-TITLE=53730 Bridal Falls Rd:geo:-121.7416594,49.187381
END:VEVENT
BEGIN:VEVENT
DTSTART;TZID=America/Vancouver:20220604T090000
DTEND;TZID=America/Vancouver:20220604T120000
DTSTAMP:20260420T022858
CREATED:20210710T164020Z
LAST-MODIFIED:20220714T183810Z
UID:10001858-1654333200-1654344000@holidaytrailsresorts.com
SUMMARY:Craft Fair!
DESCRIPTION:Come set up a table and put your crafting items out for sale!
URL:https://holidaytrailsresorts.com/event/craft-fair/2022-06-04/
LOCATION:Bridal Falls Camperland RV Resort\, 53730 Bridal Falls Rd\, Rosedale\, British Columbia\, V0X 1X1\, Canada
CATEGORIES:Bridal Falls Camperland RV Resort
GEO:49.187381;-121.7416594
X-APPLE-STRUCTURED-LOCATION;VALUE=URI;X-ADDRESS=Bridal Falls Camperland RV Resort 53730 Bridal Falls Rd Rosedale British Columbia V0X 1X1 Canada;X-APPLE-RADIUS=500;X-TITLE=53730 Bridal Falls Rd:geo:-121.7416594,49.187381
END:VEVENT
BEGIN:VEVENT
DTSTART;TZID=America/Vancouver:20220528T110000
DTEND;TZID=America/Vancouver:20220528T110000
DTSTAMP:20260420T022858
CREATED:20210710T164410Z
LAST-MODIFIED:20220714T183625Z
UID:10001841-1653735600-1653735600@holidaytrailsresorts.com
SUMMARY:Kids Draw!
DESCRIPTION:Enter to win kids prizes every Saturday. Entry forms are located in the store\, and must be present at 11am at the clubhouse to win! Ages 2-14 welcome!
URL:https://holidaytrailsresorts.com/event/kids-draw-4/2022-05-28/
LOCATION:Bridal Falls Camperland RV Resort\, 53730 Bridal Falls Rd\, Rosedale\, British Columbia\, V0X 1X1\, Canada
CATEGORIES:Bridal Falls Camperland RV Resort
ATTACH;FMTTYPE=image/jpeg:https://holidaytrailsresorts.com/wp-content/uploads/2021/07/Kids-Draw.jpg
GEO:49.187381;-121.7416594
X-APPLE-STRUCTURED-LOCATION;VALUE=URI;X-ADDRESS=Bridal Falls Camperland RV Resort 53730 Bridal Falls Rd Rosedale British Columbia V0X 1X1 Canada;X-APPLE-RADIUS=500;X-TITLE=53730 Bridal Falls Rd:geo:-121.7416594,49.187381
END:VEVENT
BEGIN:VEVENT
DTSTART;TZID=America/Vancouver:20220528T090000
DTEND;TZID=America/Vancouver:20220528T120000
DTSTAMP:20260420T022858
CREATED:20210710T164020Z
LAST-MODIFIED:20220714T183810Z
UID:10001857-1653728400-1653739200@holidaytrailsresorts.com
SUMMARY:Craft Fair!
DESCRIPTION:Come set up a table and put your crafting items out for sale!
URL:https://holidaytrailsresorts.com/event/craft-fair/2022-05-28/
LOCATION:Bridal Falls Camperland RV Resort\, 53730 Bridal Falls Rd\, Rosedale\, British Columbia\, V0X 1X1\, Canada
CATEGORIES:Bridal Falls Camperland RV Resort
GEO:49.187381;-121.7416594
X-APPLE-STRUCTURED-LOCATION;VALUE=URI;X-ADDRESS=Bridal Falls Camperland RV Resort 53730 Bridal Falls Rd Rosedale British Columbia V0X 1X1 Canada;X-APPLE-RADIUS=500;X-TITLE=53730 Bridal Falls Rd:geo:-121.7416594,49.187381
END:VEVENT
END:VCALENDAR