BEGIN:VCALENDAR
VERSION:2.0
PRODID:-//Holiday Trails Resorts - ECPv6.15.20//NONSGML v1.0//EN
CALSCALE:GREGORIAN
METHOD:PUBLISH
X-ORIGINAL-URL:https://holidaytrailsresorts.com
X-WR-CALDESC:Events for Holiday Trails Resorts
REFRESH-INTERVAL;VALUE=DURATION:PT1H
X-Robots-Tag:noindex
X-PUBLISHED-TTL:PT1H
BEGIN:VTIMEZONE
TZID:America/Vancouver
BEGIN:DAYLIGHT
TZOFFSETFROM:-0800
TZOFFSETTO:-0700
TZNAME:PDT
DTSTART:20250309T100000
END:DAYLIGHT
BEGIN:STANDARD
TZOFFSETFROM:-0700
TZOFFSETTO:-0800
TZNAME:PST
DTSTART:20251102T090000
END:STANDARD
BEGIN:DAYLIGHT
TZOFFSETFROM:-0800
TZOFFSETTO:-0700
TZNAME:PDT
DTSTART:20260308T100000
END:DAYLIGHT
BEGIN:STANDARD
TZOFFSETFROM:-0700
TZOFFSETTO:-0800
TZNAME:PST
DTSTART:20261101T090000
END:STANDARD
BEGIN:DAYLIGHT
TZOFFSETFROM:-0800
TZOFFSETTO:-0700
TZNAME:PDT
DTSTART:20270314T100000
END:DAYLIGHT
BEGIN:STANDARD
TZOFFSETFROM:-0700
TZOFFSETTO:-0800
TZNAME:PST
DTSTART:20271107T090000
END:STANDARD
END:VTIMEZONE
BEGIN:VEVENT
DTSTART;TZID=America/Vancouver:20260801T140000
DTEND;TZID=America/Vancouver:20260801T143000
DTSTAMP:20260419T220035
CREATED:20260202T173422Z
LAST-MODIFIED:20260202T174225Z
UID:10002402-1785592800-1785594600@holidaytrailsresorts.com
SUMMARY:Ice Cream Sundaes!
DESCRIPTION:Come enjoy a sundae with all the toppings! $4 each.
URL:https://holidaytrailsresorts.com/event/ice-cream-sundaes-10-3/2026-08-01/
LOCATION:Bridal Falls Camperland RV Resort\, 53730 Bridal Falls Rd\, Rosedale\, British Columbia\, V0X 1X1\, Canada
CATEGORIES:Bridal Falls Camperland RV Resort
ATTACH;FMTTYPE=image/webp:https://holidaytrailsresorts.com/wp-content/uploads/2025/05/Ice-Cream-Sundae.webp
GEO:49.187381;-121.7416594
X-APPLE-STRUCTURED-LOCATION;VALUE=URI;X-ADDRESS=Bridal Falls Camperland RV Resort 53730 Bridal Falls Rd Rosedale British Columbia V0X 1X1 Canada;X-APPLE-RADIUS=500;X-TITLE=53730 Bridal Falls Rd:geo:-121.7416594,49.187381
END:VEVENT
BEGIN:VEVENT
DTSTART;VALUE=DATE:20260808
DTEND;VALUE=DATE:20260809
DTSTAMP:20260419T220035
CREATED:20250123T181909Z
LAST-MODIFIED:20260202T172730Z
UID:10002326-1786147200-1786233599@holidaytrailsresorts.com
SUMMARY:Halloween in August 2026!
DESCRIPTION:Come join Camperland for our annual Halloween in August! Festivities include trick or treating\, and site decorating! Grab a pumpkin (from the store)\, and bring candy to hand out if you wish to participate.
URL:https://holidaytrailsresorts.com/event/halloween-in-august-2025/
LOCATION:Bridal Falls Camperland RV Resort\, 53730 Bridal Falls Rd\, Rosedale\, British Columbia\, V0X 1X1\, Canada
CATEGORIES:Bridal Falls Camperland RV Resort
ATTACH;FMTTYPE=image/jpeg:https://holidaytrailsresorts.com/wp-content/uploads/2025/01/download.jpg
GEO:49.187381;-121.7416594
X-APPLE-STRUCTURED-LOCATION;VALUE=URI;X-ADDRESS=Bridal Falls Camperland RV Resort 53730 Bridal Falls Rd Rosedale British Columbia V0X 1X1 Canada;X-APPLE-RADIUS=500;X-TITLE=53730 Bridal Falls Rd:geo:-121.7416594,49.187381
END:VEVENT
BEGIN:VEVENT
DTSTART;TZID=America/Vancouver:20260808T090000
DTEND;TZID=America/Vancouver:20260808T120000
DTSTAMP:20260419T220035
CREATED:20260202T173105Z
LAST-MODIFIED:20260202T174328Z
UID:10002471-1786179600-1786190400@holidaytrailsresorts.com
SUMMARY:Craft Sale!
DESCRIPTION:Come join us for our weekly craft sale! Set up a table and show off your goodies!
URL:https://holidaytrailsresorts.com/event/craft-sale-2/2026-08-08/
LOCATION:Bridal Falls Camperland RV Resort\, 53730 Bridal Falls Rd\, Rosedale\, British Columbia\, V0X 1X1\, Canada
CATEGORIES:Bridal Falls Camperland RV Resort,Bridal Falls Motel
ATTACH;FMTTYPE=image/jpeg:https://holidaytrailsresorts.com/wp-content/uploads/2024/05/Craft-Show.jpg
GEO:49.187381;-121.7416594
X-APPLE-STRUCTURED-LOCATION;VALUE=URI;X-ADDRESS=Bridal Falls Camperland RV Resort 53730 Bridal Falls Rd Rosedale British Columbia V0X 1X1 Canada;X-APPLE-RADIUS=500;X-TITLE=53730 Bridal Falls Rd:geo:-121.7416594,49.187381
END:VEVENT
BEGIN:VEVENT
DTSTART;TZID=America/Vancouver:20260808T140000
DTEND;TZID=America/Vancouver:20260808T143000
DTSTAMP:20260419T220035
CREATED:20260202T173422Z
LAST-MODIFIED:20260202T174225Z
UID:10002403-1786197600-1786199400@holidaytrailsresorts.com
SUMMARY:Ice Cream Sundaes!
DESCRIPTION:Come enjoy a sundae with all the toppings! $4 each.
URL:https://holidaytrailsresorts.com/event/ice-cream-sundaes-10-3/2026-08-08/
LOCATION:Bridal Falls Camperland RV Resort\, 53730 Bridal Falls Rd\, Rosedale\, British Columbia\, V0X 1X1\, Canada
CATEGORIES:Bridal Falls Camperland RV Resort
ATTACH;FMTTYPE=image/webp:https://holidaytrailsresorts.com/wp-content/uploads/2025/05/Ice-Cream-Sundae.webp
GEO:49.187381;-121.7416594
X-APPLE-STRUCTURED-LOCATION;VALUE=URI;X-ADDRESS=Bridal Falls Camperland RV Resort 53730 Bridal Falls Rd Rosedale British Columbia V0X 1X1 Canada;X-APPLE-RADIUS=500;X-TITLE=53730 Bridal Falls Rd:geo:-121.7416594,49.187381
END:VEVENT
BEGIN:VEVENT
DTSTART;TZID=America/Vancouver:20260815T090000
DTEND;TZID=America/Vancouver:20260815T120000
DTSTAMP:20260419T220035
CREATED:20260202T173105Z
LAST-MODIFIED:20260202T174328Z
UID:10002472-1786784400-1786795200@holidaytrailsresorts.com
SUMMARY:Craft Sale!
DESCRIPTION:Come join us for our weekly craft sale! Set up a table and show off your goodies!
URL:https://holidaytrailsresorts.com/event/craft-sale-2/2026-08-15/
LOCATION:Bridal Falls Camperland RV Resort\, 53730 Bridal Falls Rd\, Rosedale\, British Columbia\, V0X 1X1\, Canada
CATEGORIES:Bridal Falls Camperland RV Resort,Bridal Falls Motel
ATTACH;FMTTYPE=image/jpeg:https://holidaytrailsresorts.com/wp-content/uploads/2024/05/Craft-Show.jpg
GEO:49.187381;-121.7416594
X-APPLE-STRUCTURED-LOCATION;VALUE=URI;X-ADDRESS=Bridal Falls Camperland RV Resort 53730 Bridal Falls Rd Rosedale British Columbia V0X 1X1 Canada;X-APPLE-RADIUS=500;X-TITLE=53730 Bridal Falls Rd:geo:-121.7416594,49.187381
END:VEVENT
BEGIN:VEVENT
DTSTART;TZID=America/Vancouver:20260815T140000
DTEND;TZID=America/Vancouver:20260815T143000
DTSTAMP:20260419T220035
CREATED:20260202T173422Z
LAST-MODIFIED:20260202T174225Z
UID:10002404-1786802400-1786804200@holidaytrailsresorts.com
SUMMARY:Ice Cream Sundaes!
DESCRIPTION:Come enjoy a sundae with all the toppings! $4 each.
URL:https://holidaytrailsresorts.com/event/ice-cream-sundaes-10-3/2026-08-15/
LOCATION:Bridal Falls Camperland RV Resort\, 53730 Bridal Falls Rd\, Rosedale\, British Columbia\, V0X 1X1\, Canada
CATEGORIES:Bridal Falls Camperland RV Resort
ATTACH;FMTTYPE=image/webp:https://holidaytrailsresorts.com/wp-content/uploads/2025/05/Ice-Cream-Sundae.webp
GEO:49.187381;-121.7416594
X-APPLE-STRUCTURED-LOCATION;VALUE=URI;X-ADDRESS=Bridal Falls Camperland RV Resort 53730 Bridal Falls Rd Rosedale British Columbia V0X 1X1 Canada;X-APPLE-RADIUS=500;X-TITLE=53730 Bridal Falls Rd:geo:-121.7416594,49.187381
END:VEVENT
BEGIN:VEVENT
DTSTART;TZID=America/Vancouver:20260822T090000
DTEND;TZID=America/Vancouver:20260822T120000
DTSTAMP:20260419T220035
CREATED:20260202T173105Z
LAST-MODIFIED:20260202T174328Z
UID:10002473-1787389200-1787400000@holidaytrailsresorts.com
SUMMARY:Craft Sale!
DESCRIPTION:Come join us for our weekly craft sale! Set up a table and show off your goodies!
URL:https://holidaytrailsresorts.com/event/craft-sale-2/2026-08-22/
LOCATION:Bridal Falls Camperland RV Resort\, 53730 Bridal Falls Rd\, Rosedale\, British Columbia\, V0X 1X1\, Canada
CATEGORIES:Bridal Falls Camperland RV Resort,Bridal Falls Motel
ATTACH;FMTTYPE=image/jpeg:https://holidaytrailsresorts.com/wp-content/uploads/2024/05/Craft-Show.jpg
GEO:49.187381;-121.7416594
X-APPLE-STRUCTURED-LOCATION;VALUE=URI;X-ADDRESS=Bridal Falls Camperland RV Resort 53730 Bridal Falls Rd Rosedale British Columbia V0X 1X1 Canada;X-APPLE-RADIUS=500;X-TITLE=53730 Bridal Falls Rd:geo:-121.7416594,49.187381
END:VEVENT
BEGIN:VEVENT
DTSTART;TZID=America/Vancouver:20260822T140000
DTEND;TZID=America/Vancouver:20260822T143000
DTSTAMP:20260419T220035
CREATED:20260202T173422Z
LAST-MODIFIED:20260202T174225Z
UID:10002405-1787407200-1787409000@holidaytrailsresorts.com
SUMMARY:Ice Cream Sundaes!
DESCRIPTION:Come enjoy a sundae with all the toppings! $4 each.
URL:https://holidaytrailsresorts.com/event/ice-cream-sundaes-10-3/2026-08-22/
LOCATION:Bridal Falls Camperland RV Resort\, 53730 Bridal Falls Rd\, Rosedale\, British Columbia\, V0X 1X1\, Canada
CATEGORIES:Bridal Falls Camperland RV Resort
ATTACH;FMTTYPE=image/webp:https://holidaytrailsresorts.com/wp-content/uploads/2025/05/Ice-Cream-Sundae.webp
GEO:49.187381;-121.7416594
X-APPLE-STRUCTURED-LOCATION;VALUE=URI;X-ADDRESS=Bridal Falls Camperland RV Resort 53730 Bridal Falls Rd Rosedale British Columbia V0X 1X1 Canada;X-APPLE-RADIUS=500;X-TITLE=53730 Bridal Falls Rd:geo:-121.7416594,49.187381
END:VEVENT
BEGIN:VEVENT
DTSTART;TZID=America/Vancouver:20260829T090000
DTEND;TZID=America/Vancouver:20260829T120000
DTSTAMP:20260419T220035
CREATED:20260202T173105Z
LAST-MODIFIED:20260202T174328Z
UID:10002474-1787994000-1788004800@holidaytrailsresorts.com
SUMMARY:Craft Sale!
DESCRIPTION:Come join us for our weekly craft sale! Set up a table and show off your goodies!
URL:https://holidaytrailsresorts.com/event/craft-sale-2/2026-08-29/
LOCATION:Bridal Falls Camperland RV Resort\, 53730 Bridal Falls Rd\, Rosedale\, British Columbia\, V0X 1X1\, Canada
CATEGORIES:Bridal Falls Camperland RV Resort,Bridal Falls Motel
ATTACH;FMTTYPE=image/jpeg:https://holidaytrailsresorts.com/wp-content/uploads/2024/05/Craft-Show.jpg
GEO:49.187381;-121.7416594
X-APPLE-STRUCTURED-LOCATION;VALUE=URI;X-ADDRESS=Bridal Falls Camperland RV Resort 53730 Bridal Falls Rd Rosedale British Columbia V0X 1X1 Canada;X-APPLE-RADIUS=500;X-TITLE=53730 Bridal Falls Rd:geo:-121.7416594,49.187381
END:VEVENT
BEGIN:VEVENT
DTSTART;TZID=America/Vancouver:20260829T140000
DTEND;TZID=America/Vancouver:20260829T143000
DTSTAMP:20260419T220035
CREATED:20260202T173422Z
LAST-MODIFIED:20260202T174225Z
UID:10002406-1788012000-1788013800@holidaytrailsresorts.com
SUMMARY:Ice Cream Sundaes!
DESCRIPTION:Come enjoy a sundae with all the toppings! $4 each.
URL:https://holidaytrailsresorts.com/event/ice-cream-sundaes-10-3/2026-08-29/
LOCATION:Bridal Falls Camperland RV Resort\, 53730 Bridal Falls Rd\, Rosedale\, British Columbia\, V0X 1X1\, Canada
CATEGORIES:Bridal Falls Camperland RV Resort
ATTACH;FMTTYPE=image/webp:https://holidaytrailsresorts.com/wp-content/uploads/2025/05/Ice-Cream-Sundae.webp
GEO:49.187381;-121.7416594
X-APPLE-STRUCTURED-LOCATION;VALUE=URI;X-ADDRESS=Bridal Falls Camperland RV Resort 53730 Bridal Falls Rd Rosedale British Columbia V0X 1X1 Canada;X-APPLE-RADIUS=500;X-TITLE=53730 Bridal Falls Rd:geo:-121.7416594,49.187381
END:VEVENT
BEGIN:VEVENT
DTSTART;TZID=America/Vancouver:20260905T090000
DTEND;TZID=America/Vancouver:20260905T120000
DTSTAMP:20260419T220035
CREATED:20260202T173105Z
LAST-MODIFIED:20260202T174328Z
UID:10002475-1788598800-1788609600@holidaytrailsresorts.com
SUMMARY:Craft Sale!
DESCRIPTION:Come join us for our weekly craft sale! Set up a table and show off your goodies!
URL:https://holidaytrailsresorts.com/event/craft-sale-2/2026-09-05/
LOCATION:Bridal Falls Camperland RV Resort\, 53730 Bridal Falls Rd\, Rosedale\, British Columbia\, V0X 1X1\, Canada
CATEGORIES:Bridal Falls Camperland RV Resort,Bridal Falls Motel
ATTACH;FMTTYPE=image/jpeg:https://holidaytrailsresorts.com/wp-content/uploads/2024/05/Craft-Show.jpg
GEO:49.187381;-121.7416594
X-APPLE-STRUCTURED-LOCATION;VALUE=URI;X-ADDRESS=Bridal Falls Camperland RV Resort 53730 Bridal Falls Rd Rosedale British Columbia V0X 1X1 Canada;X-APPLE-RADIUS=500;X-TITLE=53730 Bridal Falls Rd:geo:-121.7416594,49.187381
END:VEVENT
BEGIN:VEVENT
DTSTART;TZID=America/Vancouver:20260905T140000
DTEND;TZID=America/Vancouver:20260905T143000
DTSTAMP:20260419T220035
CREATED:20260202T173422Z
LAST-MODIFIED:20260202T174225Z
UID:10002407-1788616800-1788618600@holidaytrailsresorts.com
SUMMARY:Ice Cream Sundaes!
DESCRIPTION:Come enjoy a sundae with all the toppings! $4 each.
URL:https://holidaytrailsresorts.com/event/ice-cream-sundaes-10-3/2026-09-05/
LOCATION:Bridal Falls Camperland RV Resort\, 53730 Bridal Falls Rd\, Rosedale\, British Columbia\, V0X 1X1\, Canada
CATEGORIES:Bridal Falls Camperland RV Resort
ATTACH;FMTTYPE=image/webp:https://holidaytrailsresorts.com/wp-content/uploads/2025/05/Ice-Cream-Sundae.webp
GEO:49.187381;-121.7416594
X-APPLE-STRUCTURED-LOCATION;VALUE=URI;X-ADDRESS=Bridal Falls Camperland RV Resort 53730 Bridal Falls Rd Rosedale British Columbia V0X 1X1 Canada;X-APPLE-RADIUS=500;X-TITLE=53730 Bridal Falls Rd:geo:-121.7416594,49.187381
END:VEVENT
END:VCALENDAR